BEGIN:VCALENDAR
VERSION:2.0
PRODID:-//Connect Work Tools - ECPv6.15.20//NONSGML v1.0//EN
CALSCALE:GREGORIAN
METHOD:PUBLISH
X-WR-CALNAME:Connect Work Tools
X-ORIGINAL-URL:https://connectworktools.com
X-WR-CALDESC:Events for Connect Work Tools
REFRESH-INTERVAL;VALUE=DURATION:PT1H
X-Robots-Tag:noindex
X-PUBLISHED-TTL:PT1H
BEGIN:VTIMEZONE
TZID:UTC
BEGIN:STANDARD
TZOFFSETFROM:+0000
TZOFFSETTO:+0000
TZNAME:UTC
DTSTART:20250101T000000
END:STANDARD
END:VTIMEZONE
BEGIN:VEVENT
DTSTART;VALUE=DATE:20260303
DTEND;VALUE=DATE:20260308
DTSTAMP:20260423T140545
CREATED:20250714T211654Z
LAST-MODIFIED:20251205T204536Z
UID:2022-1772496000-1772927999@connectworktools.com
SUMMARY:ConExpo 2026
DESCRIPTION:The Largest Construction Show in North America!
URL:https://connectworktools.com/event/conexpo-2026/
LOCATION:Las Vegas Convention Center – Central Hall\, 3150 Paradise Rd\, Las Vegas\, NV\, 89109\, United States
END:VEVENT
END:VCALENDAR