BEGIN:VCALENDAR
VERSION:2.0
PRODID:-//Connect Work Tools - ECPv6.15.20//NONSGML v1.0//EN
CALSCALE:GREGORIAN
METHOD:PUBLISH
X-WR-CALNAME:Connect Work Tools
X-ORIGINAL-URL:https://connectworktools.com
X-WR-CALDESC:Events for Connect Work Tools
REFRESH-INTERVAL;VALUE=DURATION:PT1H
X-Robots-Tag:noindex
X-PUBLISHED-TTL:PT1H
BEGIN:VTIMEZONE
TZID:UTC
BEGIN:STANDARD
TZOFFSETFROM:+0000
TZOFFSETTO:+0000
TZNAME:UTC
DTSTART:20250101T000000
END:STANDARD
END:VTIMEZONE
BEGIN:VEVENT
DTSTART;TZID=UTC:20260119T080000
DTEND;TZID=UTC:20260121T204500
DTSTAMP:20260423T212627
CREATED:20250714T210404Z
LAST-MODIFIED:20250714T210822Z
UID:2018-1768809600-1769028300@connectworktools.com
SUMMARY:2026 AED Summit
DESCRIPTION:
URL:https://connectworktools.com/event/2026-aed-summit/
LOCATION:Hilton Anatole\, 2201 N Stemmons Fwy\, Dalas\, TX\, 75207\, United States
END:VEVENT
BEGIN:VEVENT
DTSTART;VALUE=DATE:20260204
DTEND;VALUE=DATE:20260208
DTSTAMP:20260423T212627
CREATED:20250714T211301Z
LAST-MODIFIED:20250714T211301Z
UID:2020-1770163200-1770508799@connectworktools.com
SUMMARY:NDA's Demolition Phoenix
DESCRIPTION:NDA’s Annual Convention and Expo is the most comprehensive educational convention in the industry\, attracting more than 1\,000 demolition professionals ranging from young professionals to business owners. Whether attendees are new to the field or seasoned veterans\, they are all eager to learn more about the valuable products and resources available to them in the Expo. There is no better forum for developing your professional network and cultivating new business relationships with potential clients than NDA’s event.
URL:https://connectworktools.com/event/ndas-demolition-phoenix/
LOCATION:Phoenix Convention Center\, 100 N 3rd St\, Phoenix\, AZ\, 85004\, United States
END:VEVENT
BEGIN:VEVENT
DTSTART;VALUE=DATE:20260303
DTEND;VALUE=DATE:20260308
DTSTAMP:20260423T212627
CREATED:20250714T211654Z
LAST-MODIFIED:20251205T204536Z
UID:2022-1772496000-1772927999@connectworktools.com
SUMMARY:ConExpo 2026
DESCRIPTION:The Largest Construction Show in North America!
URL:https://connectworktools.com/event/conexpo-2026/
LOCATION:Las Vegas Convention Center – Central Hall\, 3150 Paradise Rd\, Las Vegas\, NV\, 89109\, United States
END:VEVENT
END:VCALENDAR